Package: FitHiC Version: 1.33.0 Command: E:\biocbuild\bbs-3.21-bioc\R\bin\R.exe CMD check --no-multiarch --install=check:FitHiC.install-out.txt --library=E:\biocbuild\bbs-3.21-bioc\R\library --no-vignettes --timings FitHiC_1.33.0.tar.gz StartedAt: 2025-02-10 01:07:04 -0500 (Mon, 10 Feb 2025) EndedAt: 2025-02-10 01:10:15 -0500 (Mon, 10 Feb 2025) EllapsedTime: 190.9 seconds RetCode: 0 Status: OK CheckDir: FitHiC.Rcheck Warnings: 0