Package: FitHiC Version: 1.33.0 Command: E:\biocbuild\bbs-3.21-bioc\R\bin\R.exe CMD INSTALL FitHiC StartedAt: 2025-02-09 15:20:45 -0500 (Sun, 09 Feb 2025) EndedAt: 2025-02-09 15:22:08 -0500 (Sun, 09 Feb 2025) EllapsedTime: 82.4 seconds RetCode: 0 Status: OK