Package: FlowSOM Version: 2.15.0 Command: /home/biocbuild/R/R/bin/R CMD build --keep-empty-dirs --no-resave-data FlowSOM StartedAt: 2025-01-28 22:57:21 -0000 (Tue, 28 Jan 2025) EndedAt: 2025-01-28 22:59:43 -0000 (Tue, 28 Jan 2025) EllapsedTime: 142.1 seconds RetCode: 0 Status: OK PackageFile: FlowSOM_2.15.0.tar.gz PackageFileSize: 4.907 MiB