Package: FlowSOM Version: 2.15.0 Command: /Library/Frameworks/R.framework/Resources/bin/R CMD build --keep-empty-dirs --no-resave-data FlowSOM StartedAt: 2025-02-09 16:47:22 -0500 (Sun, 09 Feb 2025) EndedAt: 2025-02-09 16:49:12 -0500 (Sun, 09 Feb 2025) EllapsedTime: 109.9 seconds RetCode: 0 Status: OK PackageFile: FlowSOM_2.15.0.tar.gz PackageFileSize: 4.905 MiB