Package: FlowSOM Version: 2.15.0 Command: rm -rf FlowSOM.buildbin-libdir && mkdir FlowSOM.buildbin-libdir && E:\biocbuild\bbs-3.21-bioc\R\bin\R.exe CMD INSTALL --build --library=FlowSOM.buildbin-libdir FlowSOM_2.15.0.tar.gz StartedAt: 2025-02-10 07:46:08 -0500 (Mon, 10 Feb 2025) EndedAt: 2025-02-10 07:46:59 -0500 (Mon, 10 Feb 2025) EllapsedTime: 51.0 seconds RetCode: 0 Status: OK PackageFile: FlowSOM_2.15.0.zip PackageFileSize: 5.222 MiB