Package: FlowSOM Version: 2.15.0 Command: chmod a+r FlowSOM -R && E:\biocbuild\bbs-3.21-bioc\R\bin\R.exe CMD build --keep-empty-dirs --no-resave-data FlowSOM StartedAt: 2025-02-09 18:45:31 -0500 (Sun, 09 Feb 2025) EndedAt: 2025-02-09 18:47:36 -0500 (Sun, 09 Feb 2025) EllapsedTime: 125.0 seconds RetCode: 0 Status: OK PackageFile: FlowSOM_2.15.0.tar.gz PackageFileSize: 4.9 MiB