Package: FlowSOM Version: 2.15.0 Command: E:\biocbuild\bbs-3.21-bioc\R\bin\R.exe CMD check --no-multiarch --install=check:FlowSOM.install-out.txt --library=E:\biocbuild\bbs-3.21-bioc\R\library --no-vignettes --timings FlowSOM_2.15.0.tar.gz StartedAt: 2025-02-13 01:21:44 -0500 (Thu, 13 Feb 2025) EndedAt: 2025-02-13 01:32:11 -0500 (Thu, 13 Feb 2025) EllapsedTime: 626.1 seconds RetCode: 0 Status: OK CheckDir: FlowSOM.Rcheck Warnings: 0