Package: FuseSOM Version: 1.9.0 Command: rm -rf FuseSOM.buildbin-libdir && mkdir FuseSOM.buildbin-libdir && /Users/biocbuild/BBS/utils/build-universal.sh FuseSOM_1.9.0.tar.gz /Library/Frameworks/R.framework/Resources/bin/R FuseSOM.buildbin-libdir StartedAt: 2025-02-03 22:50:44 -0500 (Mon, 03 Feb 2025) EndedAt: 2025-02-03 22:50:57 -0500 (Mon, 03 Feb 2025) EllapsedTime: 12.2 seconds RetCode: 0 Status: OK PackageFile: FuseSOM_1.9.0.tgz PackageFileSize: 2.717 MiB