Package: FuseSOM Version: 1.9.0 Command: /Library/Frameworks/R.framework/Resources/bin/R CMD build --keep-empty-dirs --no-resave-data FuseSOM StartedAt: 2025-02-03 16:58:38 -0500 (Mon, 03 Feb 2025) EndedAt: 2025-02-03 16:59:03 -0500 (Mon, 03 Feb 2025) EllapsedTime: 24.3 seconds RetCode: 0 Status: OK PackageFile: FuseSOM_1.9.0.tar.gz PackageFileSize: 2.643 MiB