Package: FuseSOM Version: 1.9.0 Command: /home/biocbuild/R/R/bin/R CMD build --keep-empty-dirs --no-resave-data FuseSOM StartedAt: 2025-01-28 22:59:27 -0000 (Tue, 28 Jan 2025) EndedAt: 2025-01-28 23:01:00 -0000 (Tue, 28 Jan 2025) EllapsedTime: 93.0 seconds RetCode: 0 Status: OK PackageFile: FuseSOM_1.9.0.tar.gz PackageFileSize: 2.042 MiB