Package: FuseSOM Version: 1.9.0 Command: /home/biocbuild/R/R/bin/R CMD check --install=check:FuseSOM.install-out.txt --library=/home/biocbuild/R/R/site-library --no-vignettes --timings FuseSOM_1.9.0.tar.gz StartedAt: 2025-01-28 10:43:24 -0000 (Tue, 28 Jan 2025) EndedAt: 2025-01-28 10:47:17 -0000 (Tue, 28 Jan 2025) EllapsedTime: 233.2 seconds RetCode: 0 Status: OK CheckDir: FuseSOM.Rcheck Warnings: 0