Package: FuseSOM Version: 1.9.0 Command: /home/biocbuild/R/R/bin/R CMD INSTALL FuseSOM StartedAt: 2025-01-29 20:32:41 -0000 (Wed, 29 Jan 2025) EndedAt: 2025-01-29 20:33:16 -0000 (Wed, 29 Jan 2025) EllapsedTime: 34.7 seconds RetCode: 0 Status: OK