Package: FuseSOM Version: 1.9.0 Command: rm -rf FuseSOM.buildbin-libdir && mkdir FuseSOM.buildbin-libdir && /Users/biocbuild/BBS/utils/build-universal.sh FuseSOM_1.9.0.tar.gz /Library/Frameworks/R.framework/Resources/bin/R FuseSOM.buildbin-libdir StartedAt: 2025-02-10 00:54:13 -0500 (Mon, 10 Feb 2025) EndedAt: 2025-02-10 00:54:55 -0500 (Mon, 10 Feb 2025) EllapsedTime: 41.9 seconds RetCode: 0 Status: OK PackageFile: FuseSOM_1.9.0.tgz PackageFileSize: 2.719 MiB