Package: FuseSOM Version: 1.9.0 Command: /Library/Frameworks/R.framework/Resources/bin/R CMD build --keep-empty-dirs --no-resave-data FuseSOM StartedAt: 2025-02-09 16:48:07 -0500 (Sun, 09 Feb 2025) EndedAt: 2025-02-09 16:49:14 -0500 (Sun, 09 Feb 2025) EllapsedTime: 67.5 seconds RetCode: 0 Status: OK PackageFile: FuseSOM_1.9.0.tar.gz PackageFileSize: 2.643 MiB