Package: FuseSOM Version: 1.9.0 Command: /Library/Frameworks/R.framework/Resources/bin/R CMD check --install=check:FuseSOM.install-out.txt --library=/Library/Frameworks/R.framework/Resources/library --no-vignettes --timings FuseSOM_1.9.0.tar.gz StartedAt: 2025-02-09 20:47:49 -0500 (Sun, 09 Feb 2025) EndedAt: 2025-02-09 20:51:26 -0500 (Sun, 09 Feb 2025) EllapsedTime: 217.4 seconds RetCode: 0 Status: OK CheckDir: FuseSOM.Rcheck Warnings: 0