Package: FuseSOM Version: 1.9.0 Command: /home/biocbuild/bbs-3.21-bioc/R/bin/R CMD build --keep-empty-dirs --no-resave-data FuseSOM StartedAt: 2025-02-09 17:17:57 -0500 (Sun, 09 Feb 2025) EndedAt: 2025-02-09 17:18:57 -0500 (Sun, 09 Feb 2025) EllapsedTime: 60.1 seconds RetCode: 0 Status: OK PackageFile: FuseSOM_1.9.0.tar.gz PackageFileSize: 2.646 MiB