Package: FuseSOM Version: 1.9.0 Command: /home/biocbuild/bbs-3.21-bioc/R/bin/R CMD check --install=check:FuseSOM.install-out.txt --library=/home/biocbuild/bbs-3.21-bioc/R/site-library --timings FuseSOM_1.9.0.tar.gz StartedAt: 2025-02-09 22:25:08 -0500 (Sun, 09 Feb 2025) EndedAt: 2025-02-09 22:28:47 -0500 (Sun, 09 Feb 2025) EllapsedTime: 219.3 seconds RetCode: 0 Status: OK CheckDir: FuseSOM.Rcheck Warnings: 0