Package: FuseSOM Version: 1.9.0 Command: rm -rf FuseSOM.buildbin-libdir && mkdir FuseSOM.buildbin-libdir && E:\biocbuild\bbs-3.21-bioc\R\bin\R.exe CMD INSTALL --build --library=FuseSOM.buildbin-libdir FuseSOM_1.9.0.tar.gz StartedAt: 2025-02-10 07:46:47 -0500 (Mon, 10 Feb 2025) EndedAt: 2025-02-10 07:47:31 -0500 (Mon, 10 Feb 2025) EllapsedTime: 44.3 seconds RetCode: 0 Status: OK PackageFile: FuseSOM_1.9.0.zip PackageFileSize: 1.965 MiB