Package: FuseSOM Version: 1.9.0 Command: chmod a+r FuseSOM -R && E:\biocbuild\bbs-3.21-bioc\R\bin\R.exe CMD build --keep-empty-dirs --no-resave-data FuseSOM StartedAt: 2025-02-03 18:59:19 -0500 (Mon, 03 Feb 2025) EndedAt: 2025-02-03 19:00:53 -0500 (Mon, 03 Feb 2025) EllapsedTime: 94.8 seconds RetCode: 0 Status: OK PackageFile: FuseSOM_1.9.0.tar.gz PackageFileSize: 1.887 MiB