Package: FuseSOM Version: 1.9.0 Command: E:\biocbuild\bbs-3.21-bioc\R\bin\R.exe CMD check --no-multiarch --install=check:FuseSOM.install-out.txt --library=E:\biocbuild\bbs-3.21-bioc\R\library --no-vignettes --timings FuseSOM_1.9.0.tar.gz StartedAt: 2025-02-04 01:41:44 -0500 (Tue, 04 Feb 2025) EndedAt: 2025-02-04 01:45:21 -0500 (Tue, 04 Feb 2025) EllapsedTime: 216.7 seconds RetCode: 0 Status: OK CheckDir: FuseSOM.Rcheck Warnings: 0