Package: FuseSOM Version: 1.9.0 Command: E:\biocbuild\bbs-3.21-bioc\R\bin\R.exe CMD INSTALL FuseSOM StartedAt: 2025-02-09 16:08:31 -0500 (Sun, 09 Feb 2025) EndedAt: 2025-02-09 16:09:17 -0500 (Sun, 09 Feb 2025) EllapsedTime: 46.6 seconds RetCode: 0 Status: OK