Package: GA4GHclient Version: 1.31.0 Command: /Library/Frameworks/R.framework/Resources/bin/R CMD build --keep-empty-dirs --no-resave-data GA4GHclient StartedAt: 2025-02-09 16:48:09 -0500 (Sun, 09 Feb 2025) EndedAt: 2025-02-09 16:49:41 -0500 (Sun, 09 Feb 2025) EllapsedTime: 91.5 seconds RetCode: 0 Status: OK PackageFile: GA4GHclient_1.31.0.tar.gz PackageFileSize: 637.5 KiB