Package: GA4GHclient Version: 1.31.0 Command: /Library/Frameworks/R.framework/Resources/bin/R CMD INSTALL GA4GHclient StartedAt: 2025-02-09 15:21:17 -0500 (Sun, 09 Feb 2025) EndedAt: 2025-02-09 15:22:12 -0500 (Sun, 09 Feb 2025) EllapsedTime: 55.2 seconds RetCode: 0 Status: OK