Package: GA4GHclient Version: 1.31.0 Command: /home/biocbuild/bbs-3.21-bioc/R/bin/R CMD build --keep-empty-dirs --no-resave-data GA4GHclient StartedAt: 2025-02-03 17:27:02 -0500 (Mon, 03 Feb 2025) EndedAt: 2025-02-03 17:28:23 -0500 (Mon, 03 Feb 2025) EllapsedTime: 81.1 seconds RetCode: 0 Status: OK PackageFile: GA4GHclient_1.31.0.tar.gz PackageFileSize: 637.6 KiB