Package: GA4GHclient Version: 1.31.0 Command: /home/biocbuild/bbs-3.21-bioc/R/bin/R CMD check --install=check:GA4GHclient.install-out.txt --library=/home/biocbuild/bbs-3.21-bioc/R/site-library --timings GA4GHclient_1.31.0.tar.gz StartedAt: 2025-02-09 22:25:18 -0500 (Sun, 09 Feb 2025) EndedAt: 2025-02-09 22:30:41 -0500 (Sun, 09 Feb 2025) EllapsedTime: 323.4 seconds RetCode: 0 Status: OK CheckDir: GA4GHclient.Rcheck Warnings: 0