Package: GA4GHclient Version: 1.31.0 Command: /home/biocbuild/bbs-3.21-bioc/R/bin/R CMD INSTALL GA4GHclient StartedAt: 2025-02-09 15:43:55 -0500 (Sun, 09 Feb 2025) EndedAt: 2025-02-09 15:44:35 -0500 (Sun, 09 Feb 2025) EllapsedTime: 39.5 seconds RetCode: 0 Status: OK