Package: GA4GHclient Version: 1.31.0 Command: rm -rf GA4GHclient.buildbin-libdir && mkdir GA4GHclient.buildbin-libdir && E:\biocbuild\bbs-3.21-bioc\R\bin\R.exe CMD INSTALL --build --library=GA4GHclient.buildbin-libdir GA4GHclient_1.31.0.tar.gz StartedAt: 2025-02-04 08:00:19 -0500 (Tue, 04 Feb 2025) EndedAt: 2025-02-04 08:01:31 -0500 (Tue, 04 Feb 2025) EllapsedTime: 71.4 seconds RetCode: 0 Status: OK PackageFile: GA4GHclient_1.31.0.zip PackageFileSize: 762.3 KiB