Package: GA4GHclient Version: 1.31.0 Command: E:\biocbuild\bbs-3.21-bioc\R\bin\R.exe CMD check --no-multiarch --install=check:GA4GHclient.install-out.txt --library=E:\biocbuild\bbs-3.21-bioc\R\library --no-vignettes --timings GA4GHclient_1.31.0.tar.gz StartedAt: 2025-02-10 01:13:40 -0500 (Mon, 10 Feb 2025) EndedAt: 2025-02-10 01:19:05 -0500 (Mon, 10 Feb 2025) EllapsedTime: 324.9 seconds RetCode: 0 Status: OK CheckDir: GA4GHclient.Rcheck Warnings: 0