Package: GA4GHclient Version: 1.31.0 Command: E:\biocbuild\bbs-3.21-bioc\R\bin\R.exe CMD INSTALL GA4GHclient StartedAt: 2025-02-03 16:52:07 -0500 (Mon, 03 Feb 2025) EndedAt: 2025-02-03 16:53:06 -0500 (Mon, 03 Feb 2025) EllapsedTime: 58.9 seconds RetCode: 0 Status: OK