Package: GA4GHshiny Version: 1.29.0 Command: /Library/Frameworks/R.framework/Resources/bin/R CMD build --keep-empty-dirs --no-resave-data GA4GHshiny StartedAt: 2025-02-12 16:21:48 -0500 (Wed, 12 Feb 2025) EndedAt: 2025-02-12 16:22:05 -0500 (Wed, 12 Feb 2025) EllapsedTime: 17.2 seconds RetCode: 0 Status: OK PackageFile: GA4GHshiny_1.29.0.tar.gz PackageFileSize: 298.7 KiB