Package: GA4GHshiny Version: 1.29.0 Command: rm -rf GA4GHshiny.buildbin-libdir && mkdir GA4GHshiny.buildbin-libdir && /Users/biocbuild/BBS/utils/build-universal.sh GA4GHshiny_1.29.0.tar.gz /Library/Frameworks/R.framework/Resources/bin/R GA4GHshiny.buildbin-libdir StartedAt: 2025-02-13 00:37:25 -0500 (Thu, 13 Feb 2025) EndedAt: 2025-02-13 00:38:23 -0500 (Thu, 13 Feb 2025) EllapsedTime: 58.0 seconds RetCode: 0 Status: OK PackageFile: GA4GHshiny_1.29.0.tgz PackageFileSize: 477.1 KiB