Package: GA4GHshiny Version: 1.29.0 Command: /Library/Frameworks/R.framework/Resources/bin/R CMD check --install=check:GA4GHshiny.install-out.txt --library=/Library/Frameworks/R.framework/Resources/library --no-vignettes --timings GA4GHshiny_1.29.0.tar.gz StartedAt: 2025-02-12 20:36:14 -0500 (Wed, 12 Feb 2025) EndedAt: 2025-02-12 20:41:28 -0500 (Wed, 12 Feb 2025) EllapsedTime: 313.8 seconds RetCode: 0 Status: OK CheckDir: GA4GHshiny.Rcheck Warnings: 0