Package: GA4GHshiny Version: 1.29.0 Command: /home/biocbuild/bbs-3.21-bioc/R/bin/R CMD check --install=check:GA4GHshiny.install-out.txt --library=/home/biocbuild/bbs-3.21-bioc/R/site-library --timings GA4GHshiny_1.29.0.tar.gz StartedAt: 2025-02-09 22:25:24 -0500 (Sun, 09 Feb 2025) EndedAt: 2025-02-09 22:30:13 -0500 (Sun, 09 Feb 2025) EllapsedTime: 289.4 seconds RetCode: 0 Status: OK CheckDir: GA4GHshiny.Rcheck Warnings: 0