Package: GA4GHshiny Version: 1.29.0 Command: rm -rf GA4GHshiny.buildbin-libdir && mkdir GA4GHshiny.buildbin-libdir && E:\biocbuild\bbs-3.21-bioc\R\bin\R.exe CMD INSTALL --build --library=GA4GHshiny.buildbin-libdir GA4GHshiny_1.29.0.tar.gz StartedAt: 2025-02-10 07:46:51 -0500 (Mon, 10 Feb 2025) EndedAt: 2025-02-10 07:47:44 -0500 (Mon, 10 Feb 2025) EllapsedTime: 53.5 seconds RetCode: 0 Status: OK PackageFile: GA4GHshiny_1.29.0.zip PackageFileSize: 479.7 KiB