Package: GA4GHshiny Version: 1.29.0 Command: chmod a+r GA4GHshiny -R && E:\biocbuild\bbs-3.21-bioc\R\bin\R.exe CMD build --keep-empty-dirs --no-resave-data GA4GHshiny StartedAt: 2025-02-09 18:47:38 -0500 (Sun, 09 Feb 2025) EndedAt: 2025-02-09 18:48:39 -0500 (Sun, 09 Feb 2025) EllapsedTime: 60.9 seconds RetCode: 0 Status: OK PackageFile: GA4GHshiny_1.29.0.tar.gz PackageFileSize: 298.9 KiB