Package: GA4GHshiny Version: 1.29.0 Command: E:\biocbuild\bbs-3.21-bioc\R\bin\R.exe CMD check --no-multiarch --install=check:GA4GHshiny.install-out.txt --library=E:\biocbuild\bbs-3.21-bioc\R\library --no-vignettes --timings GA4GHshiny_1.29.0.tar.gz StartedAt: 2025-02-10 01:14:04 -0500 (Mon, 10 Feb 2025) EndedAt: 2025-02-10 01:19:45 -0500 (Mon, 10 Feb 2025) EllapsedTime: 341.7 seconds RetCode: 0 Status: OK CheckDir: GA4GHshiny.Rcheck Warnings: 0