Package: GA4GHshiny Version: 1.29.0 Command: E:\biocbuild\bbs-3.21-bioc\R\bin\R.exe CMD INSTALL GA4GHshiny StartedAt: 2025-02-12 16:53:50 -0500 (Wed, 12 Feb 2025) EndedAt: 2025-02-12 16:54:37 -0500 (Wed, 12 Feb 2025) EllapsedTime: 47.4 seconds RetCode: 0 Status: OK