Package: GARS Version: 1.27.0 Command: /home/biocbuild/R/R/bin/R CMD INSTALL GARS StartedAt: 2025-01-29 20:27:53 -0000 (Wed, 29 Jan 2025) EndedAt: 2025-01-29 20:29:11 -0000 (Wed, 29 Jan 2025) EllapsedTime: 77.8 seconds RetCode: 0 Status: OK