Package: GARS Version: 1.27.0 Command: /Library/Frameworks/R.framework/Resources/bin/R CMD build --keep-empty-dirs --no-resave-data GARS StartedAt: 2025-02-05 16:45:02 -0500 (Wed, 05 Feb 2025) EndedAt: 2025-02-05 16:47:18 -0500 (Wed, 05 Feb 2025) EllapsedTime: 136.2 seconds RetCode: 0 Status: OK PackageFile: GARS_1.27.0.tar.gz PackageFileSize: 438.3 KiB