Package: GARS Version: 1.27.0 Command: /home/biocbuild/bbs-3.21-bioc/R/bin/R CMD build --keep-empty-dirs --no-resave-data GARS StartedAt: 2025-02-05 17:18:53 -0500 (Wed, 05 Feb 2025) EndedAt: 2025-02-05 17:20:48 -0500 (Wed, 05 Feb 2025) EllapsedTime: 115.2 seconds RetCode: 0 Status: OK PackageFile: GARS_1.27.0.tar.gz PackageFileSize: 438.3 KiB