Package: GARS Version: 1.27.0 Command: rm -rf GARS.buildbin-libdir && mkdir GARS.buildbin-libdir && E:\biocbuild\bbs-3.21-bioc\R\bin\R.exe CMD INSTALL --build --library=GARS.buildbin-libdir GARS_1.27.0.tar.gz StartedAt: 2025-02-06 08:04:26 -0500 (Thu, 06 Feb 2025) EndedAt: 2025-02-06 08:05:45 -0500 (Thu, 06 Feb 2025) EllapsedTime: 78.8 seconds RetCode: 0 Status: OK PackageFile: GARS_1.27.0.zip PackageFileSize: 504.4 KiB