Package: GARS Version: 1.27.0 Command: E:\biocbuild\bbs-3.21-bioc\R\bin\R.exe CMD INSTALL GARS StartedAt: 2025-02-05 16:50:07 -0500 (Wed, 05 Feb 2025) EndedAt: 2025-02-05 16:51:20 -0500 (Wed, 05 Feb 2025) EllapsedTime: 73.2 seconds RetCode: 0 Status: OK