Package: GBScleanR Version: 2.1.3 Maintainer: Tomoyuki Furuta MaintainerEmail: f.tomoyuki at okayama-u.ac.jp git_url: https://git.bioconductor.org/packages/GBScleanR git_branch: devel git_last_commit: dd9f583 git_last_commit_date: 2025-02-05 02:31:24 -0500 (Wed, 05 Feb 2025)