Package: GBScleanR Version: 2.1.3 Command: rm -rf GBScleanR.buildbin-libdir && mkdir GBScleanR.buildbin-libdir && /Users/biocbuild/BBS/utils/build-universal.sh GBScleanR_2.1.3.tar.gz /Library/Frameworks/R.framework/Resources/bin/R GBScleanR.buildbin-libdir StartedAt: 2025-02-09 22:15:00 -0500 (Sun, 09 Feb 2025) EndedAt: 2025-02-09 22:15:17 -0500 (Sun, 09 Feb 2025) EllapsedTime: 17.3 seconds RetCode: 0 Status: OK PackageFile: GBScleanR_2.1.3.tgz PackageFileSize: 2.862 MiB