Package: GBScleanR Version: 2.1.3 Command: /Library/Frameworks/R.framework/Resources/bin/R CMD build --keep-empty-dirs --no-resave-data GBScleanR StartedAt: 2025-02-12 16:22:15 -0500 (Wed, 12 Feb 2025) EndedAt: 2025-02-12 16:22:50 -0500 (Wed, 12 Feb 2025) EllapsedTime: 34.4 seconds RetCode: 0 Status: OK PackageFile: GBScleanR_2.1.3.tar.gz PackageFileSize: 2.235 MiB