Package: GBScleanR Version: 2.1.1 Command: /home/biocbuild/R/R/bin/R CMD build --keep-empty-dirs --no-resave-data GBScleanR StartedAt: 2025-01-28 23:00:41 -0000 (Tue, 28 Jan 2025) EndedAt: 2025-01-28 23:03:04 -0000 (Tue, 28 Jan 2025) EllapsedTime: 143.1 seconds RetCode: 0 Status: OK PackageFile: GBScleanR_2.1.1.tar.gz PackageFileSize: 1.326 MiB