Package: GBScleanR Version: 2.1.3 Command: /home/biocbuild/bbs-3.21-bioc/R/bin/R CMD build --keep-empty-dirs --no-resave-data GBScleanR StartedAt: 2025-02-09 17:18:57 -0500 (Sun, 09 Feb 2025) EndedAt: 2025-02-09 17:20:23 -0500 (Sun, 09 Feb 2025) EllapsedTime: 86.1 seconds RetCode: 0 Status: OK PackageFile: GBScleanR_2.1.3.tar.gz PackageFileSize: 2.071 MiB