Package: GBScleanR Version: 2.1.3 Command: /home/biocbuild/bbs-3.21-bioc/R/bin/R CMD INSTALL GBScleanR StartedAt: 2025-02-09 15:31:19 -0500 (Sun, 09 Feb 2025) EndedAt: 2025-02-09 15:32:07 -0500 (Sun, 09 Feb 2025) EllapsedTime: 48.0 seconds RetCode: 0 Status: OK