Package: GBScleanR Version: 2.1.3 Command: rm -rf GBScleanR.buildbin-libdir && mkdir GBScleanR.buildbin-libdir && E:\biocbuild\bbs-3.21-bioc\R\bin\R.exe CMD INSTALL --build --library=GBScleanR.buildbin-libdir GBScleanR_2.1.3.tar.gz StartedAt: 2025-02-10 07:47:07 -0500 (Mon, 10 Feb 2025) EndedAt: 2025-02-10 07:49:19 -0500 (Mon, 10 Feb 2025) EllapsedTime: 132.6 seconds RetCode: 0 Status: OK PackageFile: GBScleanR_2.1.3.zip PackageFileSize: 1.961 MiB