Package: GBScleanR Version: 2.1.3 Command: E:\biocbuild\bbs-3.21-bioc\R\bin\R.exe CMD check --no-multiarch --install=check:GBScleanR.install-out.txt --library=E:\biocbuild\bbs-3.21-bioc\R\library --no-vignettes --timings GBScleanR_2.1.3.tar.gz StartedAt: 2025-02-10 01:15:28 -0500 (Mon, 10 Feb 2025) EndedAt: 2025-02-10 01:19:25 -0500 (Mon, 10 Feb 2025) EllapsedTime: 236.7 seconds RetCode: 0 Status: OK CheckDir: GBScleanR.Rcheck Warnings: 0